BEGIN:VCALENDAR
VERSION:2.0
PRODID:-//eventon.com NONSGML v1.0//EN
CALSCALE:GREGORIAN
METHOD:PUBLISH
BEGIN:VEVENT
UID:69e8afb493745
DTSTAMP:20260422T042332
DTSTART:20251214T190000Z
DTEND:20251214T220000Z
TZID:America/New_York
LOCATION:
SUMMARY:Kinder (Children's) Christmas Party
DESCRIPTION: Kinder (Children's) Christmas Party\nhttps://germaniasociety.com/events/kinder-childrens-christmas-party/
URL:https://germaniasociety.com/events/kinder-childrens-christmas-party/
END:VEVENT
END:VCALENDAR