BEGIN:VCALENDAR
VERSION:2.0
PRODID:-//eventon.com NONSGML v1.0//EN
CALSCALE:GREGORIAN
METHOD:PUBLISH
BEGIN:VEVENT
UID:69e89beba263c
DTSTAMP:20260422T025907
DTSTART:20260301T001100Z
DTEND:20260301T040000Z
TZID:America/New_York
LOCATION:Germania Society of Cincinnati 3529 W Kemper Rd.
SUMMARY:Karneval Kehraus Party
DESCRIPTION: Karneval Kehraus Party\nhttps://germaniasociety.com/events/karneval-kehraus-party/
URL:https://germaniasociety.com/events/karneval-kehraus-party/
END:VEVENT
END:VCALENDAR