BEGIN:VCALENDAR
VERSION:2.0
PRODID:-//eventon.com NONSGML v1.0//EN
CALSCALE:GREGORIAN
METHOD:PUBLISH
BEGIN:VEVENT
UID:69e5f03bc2818
DTSTAMP:20260420T022203
DTSTART:20260201T001100Z
DTEND:20260201T040000Z
TZID:America/New_York
LOCATION:Radisson Hotel - Covington\,  KY 668 West Fifth St.\,  Covington\,  KY
SUMMARY:2026 Karneval Gala Maskenball
DESCRIPTION: \nhttps://germaniasociety.com/events/karneval-gala-maskenball/
URL:https://germaniasociety.com/events/karneval-gala-maskenball/
END:VEVENT
END:VCALENDAR