BEGIN:VCALENDAR
VERSION:2.0
PRODID:-//eventon.com NONSGML v1.0//EN
CALSCALE:GREGORIAN
METHOD:PUBLISH
BEGIN:VEVENT
UID:69e89d878e9f0
DTSTAMP:20260422T030559
DTSTART:20250701T220000Z
DTEND:20250701T230000Z
TZID:America/New_York
LOCATION:
SUMMARY:Deutscher Buchklub
DESCRIPTION: Join us to learn and share with other German literature. Learn the German language and culture. Whether you want to learn the German language or are fluent in it. This will immerse you in the language.\nhttps://germaniasociety.com/events/deutscher-buchklub/var/ri-2.l-L1
URL:https://germaniasociety.com/events/deutscher-buchklub/var/ri-2.l-L1
END:VEVENT
END:VCALENDAR