BEGIN:VCALENDAR
VERSION:2.0
PRODID:-//eventon.com NONSGML v1.0//EN
CALSCALE:GREGORIAN
METHOD:PUBLISH
BEGIN:VEVENT
UID:69e4c8d0d2e2a
DTSTAMP:20260419T052136
DTSTART:20240203T143000Z
DTEND:20240204T045000Z
TZID:America/New_York
LOCATION:
SUMMARY:Ball Prep
DESCRIPTION: Ball Prep\nhttps://germaniasociety.com/events/ball-prep-2/
URL:https://germaniasociety.com/events/ball-prep-2/
END:VEVENT
END:VCALENDAR