BEGIN:VCALENDAR
VERSION:2.0
PRODID:-//eventon.com NONSGML v1.0//EN
CALSCALE:GREGORIAN
METHOD:PUBLISH
BEGIN:VEVENT
UID:69eca1a7bf7b8
DTSTAMP:20260425T041239
DTSTART:20231019T220000Z
DTEND:20231020T000000Z
TZID:America/New_York
LOCATION:
SUMMARY:Prinzengarde
DESCRIPTION: Prinzengarde\nhttps://germaniasociety.com/events/prinzengarde/
URL:https://germaniasociety.com/events/prinzengarde/
END:VEVENT
END:VCALENDAR