BEGIN:VCALENDAR
VERSION:2.0
PRODID:-//eventon.com NONSGML v1.0//EN
CALSCALE:GREGORIAN
METHOD:PUBLISH
BEGIN:VEVENT
UID:69ecb47d9f708
DTSTAMP:20260425T053301
DTSTART:20231018T220000Z
DTEND:20231019T035000Z
TZID:America/New_York
LOCATION:
SUMMARY:Membership Committee Meeting
DESCRIPTION: Membership Committee Meeting\nhttps://germaniasociety.com/events/membership-committee-meeting-6/
URL:https://germaniasociety.com/events/membership-committee-meeting-6/
END:VEVENT
END:VCALENDAR