BEGIN:VCALENDAR
VERSION:2.0
PRODID:-//eventon.com NONSGML v1.0//EN
CALSCALE:GREGORIAN
METHOD:PUBLISH
BEGIN:VEVENT
UID:69ecc596e5618
DTSTAMP:20260425T064558
DTSTART:20231018T230000Z
DTEND:20231019T035000Z
TZID:America/New_York
LOCATION:
SUMMARY:Schutzenverein Practice
DESCRIPTION: Schutzenverein Practice\nhttps://germaniasociety.com/events/schutzenverein-practice-8/
URL:https://germaniasociety.com/events/schutzenverein-practice-8/
END:VEVENT
END:VCALENDAR