BEGIN:VCALENDAR
VERSION:2.0
PRODID:-//eventon.com NONSGML v1.0//EN
CALSCALE:GREGORIAN
METHOD:PUBLISH
BEGIN:VEVENT
UID:69ecdd7f486cc
DTSTAMP:20260425T082759
DTSTART:20231016T220000Z
DTEND:20231017T035000Z
TZID:America/New_York
LOCATION:
SUMMARY:Scouts
DESCRIPTION: Scouts\nhttps://germaniasociety.com/events/scouts-29/
URL:https://germaniasociety.com/events/scouts-29/
END:VEVENT
END:VCALENDAR