BEGIN:VCALENDAR
VERSION:2.0
PRODID:-//eventon.com NONSGML v1.0//EN
CALSCALE:GREGORIAN
METHOD:PUBLISH
BEGIN:VEVENT
UID:69ed02dc56441
DTSTAMP:20260425T110724
DTSTART:20231013T230000Z
DTEND:20231014T035000Z
TZID:America/New_York
LOCATION:
SUMMARY:Schutzenverein
DESCRIPTION: Schutzenverein\nhttps://germaniasociety.com/events/schutzenverein-6/
URL:https://germaniasociety.com/events/schutzenverein-6/
END:VEVENT
END:VCALENDAR