BEGIN:VCALENDAR
VERSION:2.0
PRODID:-//eventon.com NONSGML v1.0//EN
CALSCALE:GREGORIAN
METHOD:PUBLISH
BEGIN:VEVENT
UID:69ed17b1b25d8
DTSTAMP:20260425T123617
DTSTART:20231012T220000Z
DTEND:20231013T000000Z
TZID:America/New_York
LOCATION:
SUMMARY:Prinzengarde Practice
DESCRIPTION: Prinzengarde Practice\nhttps://germaniasociety.com/events/prinzengarde-practice-8/
URL:https://germaniasociety.com/events/prinzengarde-practice-8/
END:VEVENT
END:VCALENDAR