BEGIN:VCALENDAR
VERSION:2.0
PRODID:-//eventon.com NONSGML v1.0//EN
CALSCALE:GREGORIAN
METHOD:PUBLISH
BEGIN:VEVENT
UID:69ed2b13e1374
DTSTAMP:20260425T135859
DTSTART:20231010T230000Z
DTEND:20231011T035000Z
TZID:America/New_York
LOCATION:
SUMMARY:Finance Committee Meeting
DESCRIPTION: Finance Committee Meeting\nhttps://germaniasociety.com/events/finance-committee-meeting-7/
URL:https://germaniasociety.com/events/finance-committee-meeting-7/
END:VEVENT
END:VCALENDAR