BEGIN:VCALENDAR
VERSION:2.0
PRODID:-//eventon.com NONSGML v1.0//EN
CALSCALE:GREGORIAN
METHOD:PUBLISH
BEGIN:VEVENT
UID:69ed3d43d690e
DTSTAMP:20260425T151635
DTSTART:20231017T230000Z
DTEND:20231018T035000Z
TZID:America/New_York
LOCATION:
SUMMARY:House & Grounds Meeting
DESCRIPTION: House & Grounds Meeting\nhttps://germaniasociety.com/events/house-grounds-meeting-4/
URL:https://germaniasociety.com/events/house-grounds-meeting-4/
END:VEVENT
END:VCALENDAR