BEGIN:VCALENDAR
VERSION:2.0
PRODID:-//eventon.com NONSGML v1.0//EN
CALSCALE:GREGORIAN
METHOD:PUBLISH
BEGIN:VEVENT
UID:69ed62ca5640f
DTSTAMP:20260425T175642
DTSTART:20231008T200000Z
DTEND:20231009T035000Z
TZID:America/New_York
LOCATION:
SUMMARY:Karneval Meeting
DESCRIPTION: Karneval Meeting\nhttps://germaniasociety.com/events/karneval-meeting-3/
URL:https://germaniasociety.com/events/karneval-meeting-3/
END:VEVENT
END:VCALENDAR