BEGIN:VCALENDAR
VERSION:2.0
PRODID:-//eventon.com NONSGML v1.0//EN
CALSCALE:GREGORIAN
METHOD:PUBLISH
BEGIN:VEVENT
UID:69ed744407733
DTSTAMP:20260425T191116
DTSTART:20231007T000000Z
DTEND:20231007T035000Z
TZID:America/New_York
LOCATION:
SUMMARY:Membership Meeting
DESCRIPTION: Membership Meeting\nhttps://germaniasociety.com/events/membership-meeting-6/
URL:https://germaniasociety.com/events/membership-meeting-6/
END:VEVENT
END:VCALENDAR