BEGIN:VCALENDAR
VERSION:2.0
PRODID:-//eventon.com NONSGML v1.0//EN
CALSCALE:GREGORIAN
METHOD:PUBLISH
BEGIN:VEVENT
UID:69ed881d46ad3
DTSTAMP:20260425T203557
DTSTART:20231005T220000Z
DTEND:20231006T000000Z
TZID:America/New_York
LOCATION:
SUMMARY:Prinzengarde Practice
DESCRIPTION: Prinzengarde Practice\nhttps://germaniasociety.com/events/prinzengarde-practice-7/
URL:https://germaniasociety.com/events/prinzengarde-practice-7/
END:VEVENT
END:VCALENDAR