BEGIN:VCALENDAR
VERSION:2.0
PRODID:-//eventon.com NONSGML v1.0//EN
CALSCALE:GREGORIAN
METHOD:PUBLISH
BEGIN:VEVENT
UID:69e4490c88efa
DTSTAMP:20260418T201628
DTSTART:20230817T230000Z
DTEND:20230818T035000Z
TZID:America/New_York
LOCATION:
SUMMARY:Board Meeting
DESCRIPTION: Board Meeting\nhttps://germaniasociety.com/events/board-meeting-6/
URL:https://germaniasociety.com/events/board-meeting-6/
END:VEVENT
END:VCALENDAR