BEGIN:VCALENDAR
VERSION:2.0
PRODID:-//eventon.com NONSGML v1.0//EN
CALSCALE:GREGORIAN
METHOD:PUBLISH
BEGIN:VEVENT
UID:69e4497e910ef
DTSTAMP:20260418T201822
DTSTART:20230812T133000Z
DTEND:20230813T035000Z
TZID:America/New_York
LOCATION:
SUMMARY:Kitchen Committee Meeting
DESCRIPTION: Kitchen Committee Meeting\nhttps://germaniasociety.com/events/kitchen-committee-meeting-5/
URL:https://germaniasociety.com/events/kitchen-committee-meeting-5/
END:VEVENT
END:VCALENDAR