BEGIN:VCALENDAR
VERSION:2.0
PRODID:-//eventon.com NONSGML v1.0//EN
CALSCALE:GREGORIAN
METHOD:PUBLISH
BEGIN:VEVENT
UID:69e44a70d0051
DTSTAMP:20260418T202224
DTSTART:20230808T230000Z
DTEND:20230809T035000Z
TZID:America/New_York
LOCATION:
SUMMARY:Finance Committee Meeting
DESCRIPTION: Finance Committee Meeting\nhttps://germaniasociety.com/events/finance-committee-meeting-5/
URL:https://germaniasociety.com/events/finance-committee-meeting-5/
END:VEVENT
END:VCALENDAR