BEGIN:VCALENDAR
VERSION:2.0
PRODID:-//eventon.com NONSGML v1.0//EN
CALSCALE:GREGORIAN
METHOD:PUBLISH
BEGIN:VEVENT
UID:69e44b761a54b
DTSTAMP:20260418T202646
DTSTART:20230805T000000Z
DTEND:20230805T035000Z
TZID:America/New_York
LOCATION:
SUMMARY:Membership Meeting
DESCRIPTION: Membership Meeting\nhttps://germaniasociety.com/events/membership-meeting-4/
URL:https://germaniasociety.com/events/membership-meeting-4/
END:VEVENT
END:VCALENDAR