BEGIN:VCALENDAR
VERSION:2.0
PRODID:-//eventon.com NONSGML v1.0//EN
CALSCALE:GREGORIAN
METHOD:PUBLISH
BEGIN:VEVENT
UID:69e44be6d4a94
DTSTAMP:20260418T202838
DTSTART:20230803T220000Z
DTEND:20230804T000000Z
TZID:America/New_York
LOCATION:
SUMMARY:Prinzengarde Practice
DESCRIPTION: Prinzengarde Practice\nhttps://germaniasociety.com/events/prinzengard-practice/
URL:https://germaniasociety.com/events/prinzengard-practice/
END:VEVENT
END:VCALENDAR