BEGIN:VCALENDAR
VERSION:2.0
PRODID:-//eventon.com NONSGML v1.0//EN
CALSCALE:GREGORIAN
METHOD:PUBLISH
BEGIN:VEVENT
UID:69e4e7e915511
DTSTAMP:20260419T073417
DTSTART:20230522T220000Z
DTEND:20230523T035000Z
TZID:America/New_York
LOCATION:
SUMMARY:Scouts
DESCRIPTION: Scouts\nhttps://germaniasociety.com/events/scouts-8/
URL:https://germaniasociety.com/events/scouts-8/
END:VEVENT
END:VCALENDAR