BEGIN:VCALENDAR
VERSION:2.0
PRODID:-//eventon.com NONSGML v1.0//EN
CALSCALE:GREGORIAN
METHOD:PUBLISH
BEGIN:VEVENT
UID:69eae46a9e502
DTSTAMP:20260423T203258
DTSTART:20210219T220000Z
DTEND:20210220T020000Z
TZID:America/New_York
LOCATION:Germania Society of Cincinnati 3529 W Kemper Rd.
SUMMARY:Drive Thru Fish Fry
DESCRIPTION: Save the date for Germania&#8217;s drive thru Fish Fry: February 19th and 26th March 5th\,  12th\,  19th and 26th Visit https://germaniasociety.com/fish-fry for the latest menu! &nbsp;\nhttps://germaniasociety.com/events/drive-thru-fish-fry/
URL:https://germaniasociety.com/events/drive-thru-fish-fry/
END:VEVENT
END:VCALENDAR