BEGIN:VCALENDAR
VERSION:2.0
PRODID:-//eventon.com NONSGML v1.0//EN
CALSCALE:GREGORIAN
METHOD:PUBLISH
BEGIN:VEVENT
UID:69eb039ab5dbb
DTSTAMP:20260423T224602
DTSTART:20201107T170000Z
DTEND:20201108T010000Z
TZID:America/New_York
LOCATION:
SUMMARY:Winterwald
DESCRIPTION: A small but authentic German Christmas Market in the Cincinnati region located in Germania&#8217;s Picnic Grove and Pavilion. Serving traditional German food\,  German Bier\,  Glühwein (hot mulled wine)\,  and German pastries. With shopping for unique imported German gifts such as steins\,  nutcrackers and smokers\,  pyramids\,  linens\,  toys\,  and Advent calendars.\nhttps://germaniasociety.com/events/winterwald/
URL:https://germaniasociety.com/events/winterwald/
END:VEVENT
END:VCALENDAR